BEGIN:VCALENDAR
VERSION:2.0
PRODID:-//habitatkokomo.com//NONSGML kigkonsult.se iCalcreator 2.30.10//
CALSCALE:GREGORIAN
METHOD:PUBLISH
UID:178126ad-35b5-4e6d-9bb8-464f59bd19f6
X-WR-CALDESC:Your credit score – it’s one of the most important\, and compl
 icated\, numbers in your life. Join us for a workshop where you’ll receive
  tangible guidance on maximizing your score.\n\nDuring this workshop\, you
 ’ll learn:\n\n-The factors that make up your credit score\n-Strategies for
  managing and improving your credit report and score\n-Tips for building y
 our credit and how it can save you money
X-WR-RELCALID:467cbd0142acdb8b1afb9040cbe3a1c7
X-WR-TIMEZONE:America/New_York
BEGIN:VTIMEZONE
TZID:America/New_York
BEGIN:STANDARD
TZNAME:EST
DTSTART:20251102T020000
TZOFFSETFROM:-0400
TZOFFSETTO:-0500
RDATE:20261101T020000
END:STANDARD
BEGIN:DAYLIGHT
TZNAME:EDT
DTSTART:20260308T020000
TZOFFSETFROM:-0500
TZOFFSETTO:-0400
RDATE:20270314T020000
END:DAYLIGHT
END:VTIMEZONE
BEGIN:VEVENT
UID:6505a5b3-0375-40a9-ad2f-910f51c1b5f6
DTSTAMP:20260422T102446Z
DESCRIPTION:Your credit score – it’s one of the most important\, and compli
 cated\, numbers in your life. Join us for a workshop where you’ll receive 
 tangible guidance on maximizing your score.\n\nDuring this workshop\, you’
 ll learn:\n\n-The factors that make up your credit score\n-Strategies for 
 managing and improving your credit report and score\n-Tips for building yo
 ur credit and how it can save you money
DTSTART;TZID=America/New_York:20260416T173000
DTEND;TZID=America/New_York:20260416T183000
LOCATION:1935 S. Dixon Rd.\, Kokomo\, IN 46902 US
SUMMARY:Financial Wellness Class ~ Keeping up with your Credit Score
END:VEVENT
END:VCALENDAR
