BEGIN:VCALENDAR
VERSION:2.0
PRODID:-//habitatkokomo.com//NONSGML kigkonsult.se iCalcreator 2.30.10//
CALSCALE:GREGORIAN
METHOD:PUBLISH
UID:b4334eb7-717a-46e6-8c3e-a886325506d3
X-WR-CALDESC:Board Meeting
X-WR-RELCALID:8325288f3f33c21ff9be52dd5b6779f6
X-WR-TIMEZONE:America/New_York
BEGIN:VTIMEZONE
TZID:America/New_York
BEGIN:STANDARD
TZNAME:EST
DTSTART:20241103T020000
TZOFFSETFROM:-0400
TZOFFSETTO:-0500
RDATE:20251102T020000
RDATE:20261101T020000
END:STANDARD
BEGIN:DAYLIGHT
TZNAME:EDT
DTSTART:20250309T020000
TZOFFSETFROM:-0500
TZOFFSETTO:-0400
RDATE:20260308T020000
RDATE:20270314T020000
END:DAYLIGHT
END:VTIMEZONE
BEGIN:VEVENT
UID:b03eeee0-c68a-4a12-a31b-f5f7391c7eda
DTSTAMP:20260421T084814Z
DESCRIPTION:Board Meeting
DTSTART;TZID=America/New_York:20250923T173000
DTEND;TZID=America/New_York:20250923T183000
LOCATION:854 N. 300 W. \, Kokomo\, IN 46901 US
SUMMARY:Board Meeting
END:VEVENT
END:VCALENDAR
