BEGIN:VCALENDAR
VERSION:2.0
PRODID:-//habitatkokomo.com//NONSGML kigkonsult.se iCalcreator 2.30.10//
CALSCALE:GREGORIAN
METHOD:PUBLISH
UID:cbdab01d-ec87-4900-bbce-73f4e691c6d2
X-WR-CALDESC:Board Meeting
X-WR-RELCALID:0b5891dda780034ff7b4b7351c0e9be4
X-WR-TIMEZONE:America/New_York
BEGIN:VTIMEZONE
TZID:America/New_York
BEGIN:STANDARD
TZNAME:EST
DTSTART:20241103T020000
TZOFFSETFROM:-0400
TZOFFSETTO:-0500
RDATE:20251102T020000
END:STANDARD
BEGIN:DAYLIGHT
TZNAME:EDT
DTSTART:20240310T020000
TZOFFSETFROM:-0500
TZOFFSETTO:-0400
RDATE:20250309T020000
RDATE:20260308T020000
END:DAYLIGHT
END:VTIMEZONE
BEGIN:VEVENT
UID:2ac685cd-23e1-4b64-8807-e83c636d4ff6
DTSTAMP:20260421T103635Z
DESCRIPTION:Board Meeting
DTSTART;TZID=America/New_York:20250225T173000
DTEND;TZID=America/New_York:20250225T183000
LOCATION:854 N. 300 W. \, Kokomo\, IN 46901 US
SUMMARY:Board Meeting
END:VEVENT
END:VCALENDAR
