BEGIN:VCALENDAR
VERSION:2.0
PRODID:-//habitatkokomo.com//NONSGML kigkonsult.se iCalcreator 2.30.10//
CALSCALE:GREGORIAN
METHOD:PUBLISH
UID:e8a0c997-660f-4945-8a1e-8162aaa6d071
X-WR-CALDESC:During this workshop\, you'll learn:\n~How to set short and lo
 ng-term financial goals and build a budget.\n~Strategies for tracking and 
 managing expenses.\n~Ideas for staying on track with your budget and earni
 ng additional income.
X-WR-RELCALID:33e7a897fe99c44bbd9636c444dcf5aa
X-WR-TIMEZONE:America/New_York
BEGIN:VTIMEZONE
TZID:America/New_York
BEGIN:STANDARD
TZNAME:EST
DTSTART:20241103T020000
TZOFFSETFROM:-0400
TZOFFSETTO:-0500
RDATE:20251102T020000
END:STANDARD
BEGIN:DAYLIGHT
TZNAME:EDT
DTSTART:20240310T020000
TZOFFSETFROM:-0500
TZOFFSETTO:-0400
RDATE:20250309T020000
RDATE:20260308T020000
END:DAYLIGHT
END:VTIMEZONE
BEGIN:VEVENT
UID:7bd502da-b7b9-4cb0-9f81-6f189ebda046
DTSTAMP:20260421T102910Z
DESCRIPTION:During this workshop\, you'll learn:\n~How to set short and lon
 g-term financial goals and build a budget.\n~Strategies for tracking and m
 anaging expenses.\n~Ideas for staying on track with your budget and earnin
 g additional income.
DTSTART;TZID=America/New_York:20250220T173000
DTEND;TZID=America/New_York:20250220T183000
LOCATION:1935 S. Dixon Rd.\, Kokomo\, IN 46902 US
SUMMARY:Financial Wellness Class ~ Budgeting Basics
END:VEVENT
END:VCALENDAR
