BEGIN:VCALENDAR
VERSION:2.0
PRODID:-//habitatkokomo.com//NONSGML kigkonsult.se iCalcreator 2.30.10//
CALSCALE:GREGORIAN
METHOD:PUBLISH
UID:67dca274-4b9c-4694-93bd-eec0a861fa88
X-WR-CALDESC:Join us for dinner at Panera on February 18th from 4pm-8pm. Wh
 en you show our flyer or use the code FUND4U when ordering online or the a
 pp and Habitat Kokomo will receive 25% of the sales for the night.
X-WR-RELCALID:cd8823f2579f73c66264efaa6f73e955
X-WR-TIMEZONE:America/New_York
BEGIN:VTIMEZONE
TZID:America/New_York
BEGIN:STANDARD
TZNAME:EST
DTSTART:20241103T020000
TZOFFSETFROM:-0400
TZOFFSETTO:-0500
RDATE:20251102T020000
END:STANDARD
BEGIN:DAYLIGHT
TZNAME:EDT
DTSTART:20240310T020000
TZOFFSETFROM:-0500
TZOFFSETTO:-0400
RDATE:20250309T020000
RDATE:20260308T020000
END:DAYLIGHT
END:VTIMEZONE
BEGIN:VEVENT
UID:c73e1318-b8be-43e6-8af5-227694106d80
DTSTAMP:20260421T103031Z
DESCRIPTION:Join us for dinner at Panera on February 18th from 4pm-8pm. Whe
 n you show our flyer or use the code FUND4U when ordering online or the ap
 p and Habitat Kokomo will receive 25% of the sales for the night.
DTSTART;TZID=America/New_York:20250218T160000
DTEND;TZID=America/New_York:20250218T200000
LOCATION:1941 S. Reed Rd.\, Kokomo\, IN 46902 US
SUMMARY:Panera Fundraising Night
END:VEVENT
END:VCALENDAR
